BEGIN:VCALENDAR
VERSION:2.0
PRODID:-//Squarespace Inc/Squarespace 6//v6//EN
BEGIN:VEVENT
UID:5a30060bf9619ad43e414826@squarespace.com
DTSTAMP:20180817T021238Z
DTSTART:20180831T220000Z
DTEND:20180902T040000Z
SUMMARY:September Workshop - 2 Days
GEO:-36.865672;174.744999
LOCATION:Empire Studios\, 2 Bond Street\, Auckland 1021\, New Zealand
END:VEVENT
END:VCALENDAR
