BEGIN:VCALENDAR
VERSION:2.0
PRODID:-//Squarespace Inc/Squarespace 6//v6//EN
BEGIN:VEVENT
UID:5a300b76f9619ad43e428a51@squarespace.com
DTSTAMP:20181015T021337Z
DTSTART:20180928T220000Z
DTEND:20180930T040000Z
SUMMARY:September Going West - 2 Days
GEO:-36.913043;174.649855
LOCATION:Glen Eden Community Centre (Sat) & Rugby Club (Sun)\, 44 Glendale 
 Road\, Auckland 0602\, New Zealand
END:VEVENT
END:VCALENDAR
