BEGIN:VCALENDAR
VERSION:2.0
PRODID:-//Squarespace Inc/Squarespace 6//v6//EN
BEGIN:VEVENT
UID:5ce3603f7729270001c08d39@squarespace.com
DTSTAMP:20190521T025153Z
DTSTART:20190611T220000Z
DTEND:20190703T040000Z
SUMMARY:June/July -  4 Week Foundation Course for 13-18 years
GEO:-36.878804;174.856915
LOCATION:Te Oro\, 98 Line Road\, Glen Innes
END:VEVENT
END:VCALENDAR
