BEGIN:VCALENDAR
VERSION:2.0
PRODID:-//Squarespace Inc/Squarespace 6//v6//EN
BEGIN:VEVENT
UID:5ddda8c3e4c5152fe5377e4d@squarespace.com
DTSTAMP:20191126T230213Z
DTSTART:20200501T220000Z
DTEND:20200503T040000Z
SUMMARY:May Foundations Workshop - Whangarei
GEO:38.289538;-90.394842
LOCATION:VENUE TBC
END:VEVENT
END:VCALENDAR
